BEGIN:VCALENDAR
VERSION:2.0
PRODID:-//CEO Liceu - ECPv6.15.18//NONSGML v1.0//EN
CALSCALE:GREGORIAN
METHOD:PUBLISH
X-WR-CALNAME:CEO Liceu
X-ORIGINAL-URL:https://ceoliceu.pt
X-WR-CALDESC:Eventos para CEO Liceu
REFRESH-INTERVAL;VALUE=DURATION:PT1H
X-Robots-Tag:noindex
X-PUBLISHED-TTL:PT1H
BEGIN:VTIMEZONE
TZID:UTC
BEGIN:STANDARD
TZOFFSETFROM:+0000
TZOFFSETTO:+0000
TZNAME:UTC
DTSTART:20250101T000000
END:STANDARD
END:VTIMEZONE
BEGIN:VEVENT
DTSTART;TZID=UTC:20260604T080000
DTEND;TZID=UTC:20260604T130000
DTSTAMP:20260421T101246
CREATED:20251014T124630Z
LAST-MODIFIED:20251014T135159Z
UID:987505989-1780560000-1780578000@ceoliceu.pt
SUMMARY:Aquatlo do Liceu
DESCRIPTION:O “AQUATLO DO LICEU 2025” é um evento otganizado pelo Clube Escola O Liceu (CEOL) com o apoio técnico e logístico da Associação Regional de Triatlo da Madeira (A.R.T.M.) e com a colaboração dos professores de Ed. Física da ES Jaime Moniz. \nEsta competição insere-se no âmbito do Aquatlo Jovem Escolar e como tal\, destina-se aos alunos da ES Jaime Moniz e atletas jovens de Clubes da RAM. Será constituída por várias provas\, individuais e estafetas\, dos escalões (Benjamins\, Infantis\, Iniciados\, Juvenis\, Cadetes e Juniores). \nNome: XII AQUATLO DO LICEU 2025\nData: 05 de junho de 2025 (Quinta-feira)\nLocal: Partida e chegada na Escola Secundária do Liceu Jaime Moniz. \nHorários de realização das provas:\n– Prova Benjamins e Infantis: 10h00\n– Prova Iniciados: 10h15\n– Prova Juvenis: 10h45\n– Cadetes e Juniores: 11h15\n– Cerimónia de entrega de prémios: 12h15 \nNota: Estão previstas entrega de Troféus ao 1º classificado de cada escalão e género e medalhas aos 5 primeiros classificados de cada escalão e sexo. Serão ainda entregues lembranças e t-shirts a todos os participantes.
URL:https://ceoliceu.pt/eventos/aquatlo-do-liceu/
LOCATION:Escola Secundária do Liceu Jaime Moniz\, Funchal\, Ilha da Madeira\, Portugal
CATEGORIES:Outros
ATTACH;FMTTYPE=image/jpeg:https://ceoliceu.pt/wp-content/uploads/2025/03/AQUATLO_2025-scaled.jpg
ORGANIZER;CN="Clube Escola O Liceu":MAILTO:clubeoliceu@gmail.com
END:VEVENT
END:VCALENDAR